BEGIN:VCALENDAR
VERSION:2.0
PRODID:-//eventon.com NONSGML v1.0//EN
CALSCALE:GREGORIAN
METHOD:PUBLISH
BEGIN:VEVENT
UID:69e4eacbe3644
DTSTAMP:20260419T144635Z
DTSTART:20260310T180000Z
DTEND:20260310T235000Z
LOCATION:
SUMMARY:Üben für Wettbewerbe
DESCRIPTION:Üben für Wettbewerbe\nhttps://www.ffw-osterwald-oe.de/events/
 ueben-fuer-wettbewerbe-2/
URL:https://www.ffw-osterwald-oe.de/events/ueben-fuer-wettbewerbe-2/
END:VEVENT
END:VCALENDAR